BEGIN:VCALENDAR
VERSION:2.0
PRODID:icalendar-ruby
CALSCALE:GREGORIAN
METHOD:PUBLISH
BEGIN:VEVENT
DTSTAMP:20260421T224507Z
UID:29-557035@elginefc.org
DTSTART:20261027T143000Z
DTEND:20261027T163000Z
CLASS:PUBLIC
CREATED:20260421T174411
DESCRIPTION:This winter\, the women of our church will be walking through 
 Experiencing God by Henry Blackaby. Together\, we’ll be exploring what 
 it means to know God more deeply\, recognize where He is at work\, and gro
 w in our relationship with Christ. \nAll women are warmly invited to join
  us\, drop-ins are always welcome! The workbook is available on Amazon.\n
  \nEEFC Womens Minitry \nwomensministry@elginefc.org
LAST-MODIFIED:20260421T174411
LOCATION:EEFC\, 1900 Big Timber Road\, Elgin\, IL 60123
SUMMARY:Women's Morning Bible Study
URL;VALUE=URI:https://elginefc.org/events/womens-morning-bible-study/2026-1
 0-27
ATTACH;FILENAME=2-EEFC-Women%27s-Bible-Study-Slides.png;FMTTYPE=image/png:h
 ttps://dq5pwpg1q8ru0.cloudfront.net/2026/01/14/21/24/29/f2d973e0-a225-4cd5
 -a85f-d2618da6dfbb/2-EEFC-Women%2527s-Bible-Study-Slides.png
END:VEVENT
END:VCALENDAR
